BEGIN:VCALENDAR
VERSION:2.0
PRODID:-//wp-events-plugin.com//6.6.1//EN
BEGIN:VEVENT
UID:67@visits.lfo.tu-dortmund.de
DTSTART;TZID=Europe/Berlin:20200310T080000
DTEND;TZID=Europe/Berlin:20200310T090000
DTSTAMP:20200306T105233Z
URL:https://visits.lfo.tu-dortmund.de/events/klausur-fabrikplanung-alte-pr
 uefungsordnung/
SUMMARY:Klausur: Fabrikplanung (alte Prüfungsordnung)
DESCRIPTION:
CATEGORIES:Prüfung
LOCATION:Hörsaalgebäude 1\, Hörsaal 6 (Campus Süd)\, August-Schmidt-Str
 . 4\, Dortmund\, Deutschland
X-APPLE-STRUCTURED-LOCATION;VALUE=URI;X-ADDRESS=August-Schmidt-Str. 4\, Dor
 tmund\, Deutschland;X-APPLE-RADIUS=100;X-TITLE=Hörsaalgebäude 1\, Hörsa
 al 6 (Campus Süd):geo:0,0
END:VEVENT
BEGIN:VTIMEZONE
TZID:Europe/Berlin
X-LIC-LOCATION:Europe/Berlin
BEGIN:STANDARD
DTSTART:20191027T020000
TZOFFSETFROM:+0200
TZOFFSETTO:+0100
TZNAME:CET
END:STANDARD
END:VTIMEZONE
END:VCALENDAR