BEGIN:VCALENDAR
VERSION:2.0
PRODID:-//wp-events-plugin.com//6.6.1//EN
BEGIN:VEVENT
UID:66@visits.lfo.tu-dortmund.de
DTSTART;TZID=Europe/Berlin:20200302T090000
DTEND;TZID=Europe/Berlin:20200302T110000
DTSTAMP:20200227T133412Z
URL:https://visits.lfo.tu-dortmund.de/events/klausur-grundlagen-der-untern
 ehmenslogistik-und-supply-chain-management-alte-po-logistik/
SUMMARY:Klausur: Grundlagen der Unternehmenslogistik und des Supply Chain M
 anagements (alte PO | Logistik)
DESCRIPTION:
CATEGORIES:Prüfung
LOCATION:Hörsaalgebäude 2 Hörsaal 6\, OH4\, Dortmund\, Deutschland\, 442
 27\, NRW\, Deutschland
X-APPLE-STRUCTURED-LOCATION;VALUE=URI;X-ADDRESS=OH4\, Dortmund\, Deutschlan
 d\, 44227\, NRW\, Deutschland;X-APPLE-RADIUS=100;X-TITLE=Hörsaalgebäude 
 2 Hörsaal 6:geo:0,0
END:VEVENT
BEGIN:VTIMEZONE
TZID:Europe/Berlin
X-LIC-LOCATION:Europe/Berlin
BEGIN:STANDARD
DTSTART:20191027T020000
TZOFFSETFROM:+0200
TZOFFSETTO:+0100
TZNAME:CET
END:STANDARD
END:VTIMEZONE
END:VCALENDAR