BEGIN:VCALENDAR
VERSION:2.0
PRODID:-//wp-events-plugin.com//6.6.1//EN
BEGIN:VEVENT
UID:65@visits.lfo.tu-dortmund.de
DTSTART;TZID=Europe/Berlin:20200306T110000
DTEND;TZID=Europe/Berlin:20200306T140000
DTSTAMP:20200210T080908Z
URL:https://visits.lfo.tu-dortmund.de/events/klausur-grundlagen-der-untern
 ehmenslogistik-und-supply-chain-management-alte-po-mb/
SUMMARY:Klausur: Grundlagen der Unternehmenslogistik und des Supply Chain M
 anagements (alte PO | MB)
DESCRIPTION:
CATEGORIES:Prüfung
LOCATION:Hörsaalgebäude 2 Hörsaal 5\, OH 4\, Dortmund\, 44227\, Deutschl
 and
X-APPLE-STRUCTURED-LOCATION;VALUE=URI;X-ADDRESS=OH 4\, Dortmund\, 44227\, D
 eutschland;X-APPLE-RADIUS=100;X-TITLE=Hörsaalgebäude 2 Hörsaal 5:geo:0,
 0
END:VEVENT
BEGIN:VTIMEZONE
TZID:Europe/Berlin
X-LIC-LOCATION:Europe/Berlin
BEGIN:STANDARD
DTSTART:20191027T020000
TZOFFSETFROM:+0200
TZOFFSETTO:+0100
TZNAME:CET
END:STANDARD
END:VTIMEZONE
END:VCALENDAR