BEGIN:VCALENDAR
VERSION:2.0
PRODID:-//wp-events-plugin.com//6.6.1//EN
BEGIN:VEVENT
UID:52@visits.lfo.tu-dortmund.de
DTSTART;TZID=Europe/Berlin:20200203T090000
DTEND;TZID=Europe/Berlin:20200203T110000
DTSTAMP:20191119T101534Z
URL:https://visits.lfo.tu-dortmund.de/events/nachschreibeklausur-fuer-inst
 andhaltungsmanagement-alte-po/
SUMMARY:Nachschreibeklausur für Instandhaltungsmanagement (alte PO):
DESCRIPTION:
CATEGORIES:Prüfung
LOCATION:SRG1/ H.001\, Friedrich Wöhler Weg 6\, Dortmund\, 44227\, Deutsch
 land
X-APPLE-STRUCTURED-LOCATION;VALUE=URI;X-ADDRESS=Friedrich Wöhler Weg 6\, D
 ortmund\, 44227\, Deutschland;X-APPLE-RADIUS=100;X-TITLE=SRG1/ H.001:geo:0
 ,0
END:VEVENT
BEGIN:VTIMEZONE
TZID:Europe/Berlin
X-LIC-LOCATION:Europe/Berlin
BEGIN:STANDARD
DTSTART:20191027T020000
TZOFFSETFROM:+0200
TZOFFSETTO:+0100
TZNAME:CET
END:STANDARD
END:VTIMEZONE
END:VCALENDAR