BEGIN:VCALENDAR
VERSION:2.0
PRODID:-//wp-events-plugin.com//6.6.1//EN
BEGIN:VEVENT
UID:56@visits.lfo.tu-dortmund.de
DTSTART;TZID=Europe/Berlin:20200421T160000
DTEND;TZID=Europe/Berlin:20200421T173000
DTSTAMP:20200316T082757Z
URL:https://visits.lfo.tu-dortmund.de/events/praxis-trifft-wissenschaft-10
 -jahre-10-vortraege-3/
SUMMARY:ABGESAGT: Praxis trifft Wissenschaft 10 Jahre - 10 Vorträge
DESCRIPTION:Digitalisierung im Maschinen- und Anlagenbau\nAufgrund der ört
 lichen Bestimmungen im Fall des Coronavirus/COVID-19\, wird der kommende V
 ortrag in der Reihe „Praxis trifft Wissenschaft – 10 Jahre\, 10 Vortr
 äge – Digitalisierung für Jedermann“ am 21. April 2020 abgesagt.\nFr
 ederic Nitka\, KHS GmbH\n\nTU Dortmund\nPavillon 10/104\, Einfahrt 1 (Emil
 -Figge-Str. 71)
CATEGORIES:Event
LOCATION:Pavillon 10/104\, Einfahrt 1 (Emil-Figge-Str. 71)\, Dortmund\, 442
 27\, Deutschland
X-APPLE-STRUCTURED-LOCATION;VALUE=URI;X-ADDRESS=Einfahrt 1 (Emil-Figge-Str.
  71)\, Dortmund\, 44227\, Deutschland;X-APPLE-RADIUS=100;X-TITLE=Pavillon 
 10/104:geo:0,0
END:VEVENT
BEGIN:VTIMEZONE
TZID:Europe/Berlin
X-LIC-LOCATION:Europe/Berlin
BEGIN:DAYLIGHT
DTSTART:20200329T030000
TZOFFSETFROM:+0100
TZOFFSETTO:+0200
TZNAME:CEST
END:DAYLIGHT
END:VTIMEZONE
END:VCALENDAR