BEGIN:VCALENDAR
VERSION:2.0
PRODID:-//wp-events-plugin.com//6.6.1//EN
BEGIN:VEVENT
UID:61@visits.lfo.tu-dortmund.de
DTSTART;TZID=Europe/Berlin:20200211T160000
DTEND;TZID=Europe/Berlin:20200211T173000
DTSTAMP:20200130T093832Z
URL:https://visits.lfo.tu-dortmund.de/events/praxis-trifft-wissenschaft-10
 -jahre-10-vortraege-8/
SUMMARY:Praxis trifft Wissenschaft 10 Jahre - 10 Vorträge
DESCRIPTION:10 Schritte zur erfolgreichen Promotion\nBenjamin Brast\nGradui
 ertenzentrum der TU Dortmund\n\nTU Dortmund\nPavillon 10/104\, Einfahrt 1 
 (Emil-Figge-Str. 71)
CATEGORIES:Event
LOCATION:Pavillon 10/104\, Einfahrt 1 (Emil-Figge-Str. 71)\, Dortmund\, 442
 27\, Deutschland
X-APPLE-STRUCTURED-LOCATION;VALUE=URI;X-ADDRESS=Einfahrt 1 (Emil-Figge-Str.
  71)\, Dortmund\, 44227\, Deutschland;X-APPLE-RADIUS=100;X-TITLE=Pavillon 
 10/104:geo:0,0
END:VEVENT
BEGIN:VTIMEZONE
TZID:Europe/Berlin
X-LIC-LOCATION:Europe/Berlin
BEGIN:STANDARD
DTSTART:20191027T020000
TZOFFSETFROM:+0200
TZOFFSETTO:+0100
TZNAME:CET
END:STANDARD
END:VTIMEZONE
END:VCALENDAR