BEGIN:VCALENDAR
VERSION:2.0
PRODID:-//wp-events-plugin.com//6.6.1//EN
BEGIN:VEVENT
UID:1@visits.lfo.tu-dortmund.de
DTSTART;TZID=Europe/Berlin:20191105T110000
DTEND;TZID=Europe/Berlin:20191105T200000
DTSTAMP:20200116T102648Z
URL:https://visits.lfo.tu-dortmund.de/events/praxis-trifft-wissenschaft/
SUMMARY:Vortragsreihe  Praxis trifft Wissenschaft - 10 Jahre - 10 Vorträge
DESCRIPTION:Neuste Trends und Technologien kennenlernen\, potenzielle Arbei
 tgeber treffen\, Promotionsthemen finden und einfach mehr erfahren!\n\nDie
  kostenfreie Vortragsreihe bietet monatlich neue Themen und Diskussionen f
 ür Studierende\, Wissenschaftler und Unternehmensvertreter sowie zahlreic
 he Networkingmöglichkeiten. Lernen Sie potenzielle Arbeitgeber\, möglich
 e Forschungsthemen und Projektpartner kennen.\n\nWann? \n14.01.2020 | 11.0
 2.2020 | 10.03.2020 | 21.04.2020 | 12.05.2020 | 09.06.2020 | 08.09.2020 | 
 06.10.2020 | 10.11.2020 | 08.12.2020\n\nWo? \nTU Dortmund\nMaschinenbaugeb
 äude I (MB I) Leonhard-Euler-Str. 5 | 44227 Dortmund Raum E21\n\nDownload
 : Flyer zur Vortragsreihe_Praxis trifft Wissenschaft\n\n&nbsp\;\n\n&nbsp\;
CATEGORIES:Event
LOCATION:TU Dortmund\, Fakultät Maschinenbau\, Leonhard-Euler-Straße 5\, 
 Dortmund\, 44227\, Deutschland
X-APPLE-STRUCTURED-LOCATION;VALUE=URI;X-ADDRESS=Leonhard-Euler-Straße 5\, 
 Dortmund\, 44227\, Deutschland;X-APPLE-RADIUS=100;X-TITLE=TU Dortmund\, Fa
 kultät Maschinenbau:geo:0,0
END:VEVENT
BEGIN:VTIMEZONE
TZID:Europe/Berlin
X-LIC-LOCATION:Europe/Berlin
BEGIN:STANDARD
DTSTART:20191027T020000
TZOFFSETFROM:+0200
TZOFFSETTO:+0100
TZNAME:CET
END:STANDARD
END:VTIMEZONE
END:VCALENDAR