BEGIN:VCALENDAR
VERSION:2.0
PRODID:-//wp-events-plugin.com//6.6.1//EN
BEGIN:VEVENT
UID:53@visits.lfo.tu-dortmund.de
DTSTART;TZID=Europe/Berlin:20190219T110000
DTEND;TZID=Europe/Berlin:20190219T123000
DTSTAMP:20191119T110307Z
URL:https://visits.lfo.tu-dortmund.de/events/pruefung-supply-chain-simulat
 ion/
SUMMARY:Prüfung Supply Chain Simulation
DESCRIPTION:
CATEGORIES:Prüfung
END:VEVENT
BEGIN:VTIMEZONE
TZID:Europe/Berlin
X-LIC-LOCATION:Europe/Berlin
BEGIN:STANDARD
DTSTART:20181028T020000
TZOFFSETFROM:+0200
TZOFFSETTO:+0100
TZNAME:CET
END:STANDARD
END:VTIMEZONE
END:VCALENDAR