BEGIN:VCALENDAR
VERSION:2.0
PRODID:-//wp-events-plugin.com//6.6.1//EN
BEGIN:VEVENT
UID:15@visits.lfo.tu-dortmund.de
DTSTART;TZID=Europe/Berlin:20200309T110000
DTEND;TZID=Europe/Berlin:20200309T123000
DTSTAMP:20200309T075449Z
URL:https://visits.lfo.tu-dortmund.de/events/pruefung-unternehmenslogistik
 -und-supply-chain-management/
SUMMARY:Prüfung Unternehmenslogistik und Supply Chain Management
DESCRIPTION:Die Prüfungsleistung wird durch eine schriftliche Klausur (Dau
 er 90 Minuten) erbracht.
CATEGORIES:Prüfung
LOCATION:CT Zentralbereich – HS ZE 15\,    \, Dortmund\, Deutschland
X-APPLE-STRUCTURED-LOCATION;VALUE=URI;X-ADDRESS=   \, Dortmund\, Deutschlan
 d;X-APPLE-RADIUS=100;X-TITLE=CT Zentralbereich – HS ZE 15:geo:0,0
END:VEVENT
BEGIN:VTIMEZONE
TZID:Europe/Berlin
X-LIC-LOCATION:Europe/Berlin
BEGIN:STANDARD
DTSTART:20191027T020000
TZOFFSETFROM:+0200
TZOFFSETTO:+0100
TZNAME:CET
END:STANDARD
END:VTIMEZONE
END:VCALENDAR